BEGIN:VCALENDAR
VERSION:2.0
PRODID:-//Tukios.com/
BEGIN:VEVENT
UID:4808e664-1447-441c-95c3-b21f0d8eeced@www.auldsfuneral.com
DTSTAMP:20260421T181030Z
DTSTART:20260425T190000Z
DTEND:20260425T200000Z
SUMMARY:Memorial Service
DESCRIPTION:
URL:https://www.auldsfuneral.com/obituaries/tammy-litton
LOCATION: 7849 East Kings Highway  Shreveport LA 71115
GEO:32.4347904;-93.7031255
END:VEVENT
END:VCALENDAR