BEGIN:VCALENDAR
VERSION:2.0
PRODID:-//Tukios.com/
BEGIN:VEVENT
UID:c8ae4c46-f5ab-41de-8d98-d6c5037ced44@www.auldsfuneral.com
DTSTAMP:20260421T175217Z
DTSTART:20260421T220000Z
DTEND:20260422T000000Z
SUMMARY:Visitation
DESCRIPTION:
URL:https://www.auldsfuneral.com/obituaries/roxanne-rappold
LOCATION:Aulds Funeral Home 7849 East Kings Highway  Shreveport LA 71115
GEO:32.4347904;-93.7031255
END:VEVENT
END:VCALENDAR